BEGIN:VCALENDAR
VERSION:2.0
PRODID:-//Zentrum für mentale Stärke - ECPv6.15.20//NONSGML v1.0//EN
CALSCALE:GREGORIAN
METHOD:PUBLISH
X-ORIGINAL-URL:https://insa-schuelzke.de
X-WR-CALDESC:Veranstaltungen für Zentrum für mentale Stärke
REFRESH-INTERVAL;VALUE=DURATION:PT1H
X-Robots-Tag:noindex
X-PUBLISHED-TTL:PT1H
BEGIN:VTIMEZONE
TZID:Europe/Berlin
BEGIN:DAYLIGHT
TZOFFSETFROM:+0100
TZOFFSETTO:+0200
TZNAME:CEST
DTSTART:20250330T010000
END:DAYLIGHT
BEGIN:STANDARD
TZOFFSETFROM:+0200
TZOFFSETTO:+0100
TZNAME:CET
DTSTART:20251026T010000
END:STANDARD
BEGIN:DAYLIGHT
TZOFFSETFROM:+0100
TZOFFSETTO:+0200
TZNAME:CEST
DTSTART:20260329T010000
END:DAYLIGHT
BEGIN:STANDARD
TZOFFSETFROM:+0200
TZOFFSETTO:+0100
TZNAME:CET
DTSTART:20261025T010000
END:STANDARD
BEGIN:DAYLIGHT
TZOFFSETFROM:+0100
TZOFFSETTO:+0200
TZNAME:CEST
DTSTART:20270328T010000
END:DAYLIGHT
BEGIN:STANDARD
TZOFFSETFROM:+0200
TZOFFSETTO:+0100
TZNAME:CET
DTSTART:20271031T010000
END:STANDARD
END:VTIMEZONE
BEGIN:VEVENT
DTSTART;TZID=Europe/Berlin:20260322T093000
DTEND;TZID=Europe/Berlin:20260322T163000
DTSTAMP:20260424T034425
CREATED:20251229T183018Z
LAST-MODIFIED:20260206T171955Z
UID:10000720-1774171800-1774197000@insa-schuelzke.de
SUMMARY:TeamKompass Pferd & Mensch
DESCRIPTION:Für wen ist dieser Kurs geeignet?\n\nReiter:innen\, die die Beziehung zu ihrem Pferd vertiefen möchten\nTeams\, die Klarheit über ihre Stärken & Herausforderungen suchen\nAlle\, die mentale Stärke\, Kommunikation und Verbindung verbessern möchten\n\nWas dich erwartet:\n\nAnalyse & Beobachtung deines Teams im Alltag\, am Boden & beim Reiten\nMentale Tools für mehr Klarheit\, Ruhe & Souveränität\nIndividuelle Impulse & Take-Home-Guide für weitere Entwicklung\nPraxisübungen am Boden und im Sattel\nFeedback & persönliche Empfehlungen\n\nZiele des Tages\n\nDen aktuellen „Teamstatus“ zwischen Reiter:in und Pferd erkennen\nIndividuelle Stärken & Entwicklungsbereiche identifizieren\nMentale Strategien kennenlernen\, um entspannt\, klar und souverän zu reiten oder am Boden zu arbeiten\nPraktische Impulse für Training\, Alltag & Entwicklung erhalten\nSolltest du dich selber in diesen Situationen unwohl fühlen\, steht dir bei Bedarf ein Mentalcoach zur Seite.\n\nDer Kurs findet in erster Linie an der Hand statt\, bei entsprechenden Kenntnisstand darf in der 2. Einheit gerne geritten werden. \nDie Teilnehmeranzahl ist auf 8 Personen begrenzt. \n\nweitere Infos und Anmeldung
URL:https://insa-schuelzke.de/veranstaltungen/reality-check-teamstatus-pferd-mensch/
LOCATION:Nobbenhof Sonsbeck\, Stadtveener Str. 53\, 47665 Sonsbeck\, NRW\, 47665\, Deutschland
CATEGORIES:Reiter- und Pferdeausbildung
ATTACH;FMTTYPE=image/png:https://insa-schuelzke.de/wp-content/uploads/2025/12/35e486c9-71c4-4e10-9ec4-dbfa7be3b884.png
ORGANIZER;CN="Insa Sch%C3%BClzke":MAILTO:info@insa-schuelzke.de
END:VEVENT
END:VCALENDAR