BEGIN:VCALENDAR
VERSION:2.0
PRODID:-//Zentrum für mentale Stärke - ECPv6.15.20//NONSGML v1.0//EN
CALSCALE:GREGORIAN
METHOD:PUBLISH
X-ORIGINAL-URL:https://insa-schuelzke.de
X-WR-CALDESC:Veranstaltungen für Zentrum für mentale Stärke
REFRESH-INTERVAL;VALUE=DURATION:PT1H
X-Robots-Tag:noindex
X-PUBLISHED-TTL:PT1H
BEGIN:VTIMEZONE
TZID:Europe/Berlin
BEGIN:DAYLIGHT
TZOFFSETFROM:+0100
TZOFFSETTO:+0200
TZNAME:CEST
DTSTART:20210328T010000
END:DAYLIGHT
BEGIN:STANDARD
TZOFFSETFROM:+0200
TZOFFSETTO:+0100
TZNAME:CET
DTSTART:20211031T010000
END:STANDARD
BEGIN:DAYLIGHT
TZOFFSETFROM:+0100
TZOFFSETTO:+0200
TZNAME:CEST
DTSTART:20220327T010000
END:DAYLIGHT
BEGIN:STANDARD
TZOFFSETFROM:+0200
TZOFFSETTO:+0100
TZNAME:CET
DTSTART:20221030T010000
END:STANDARD
BEGIN:DAYLIGHT
TZOFFSETFROM:+0100
TZOFFSETTO:+0200
TZNAME:CEST
DTSTART:20230326T010000
END:DAYLIGHT
BEGIN:STANDARD
TZOFFSETFROM:+0200
TZOFFSETTO:+0100
TZNAME:CET
DTSTART:20231029T010000
END:STANDARD
END:VTIMEZONE
BEGIN:VEVENT
DTSTART;TZID=Europe/Berlin:20220105T193000
DTEND;TZID=Europe/Berlin:20220105T203000
DTSTAMP:20260423T103552
CREATED:20211109T073214Z
LAST-MODIFIED:20211109T073652Z
UID:10000030-1641411000-1641414600@insa-schuelzke.de
SUMMARY:Virtuelle CAFÉ der Fragen – Entspannt unterwegs mit Deinem Pferd - Mental Stark und Angstfrei
DESCRIPTION:Virtuelle CAFÉ der Fragen \nEntspannt unterwegs mit Deinem Pferd Mental Stark und Angstfrei\n  \nDu bist auf der Suche nach Deinem Weg zum Reiten ohne Angst um wieder entspannt mit Deinem Pferd unterwegs zu sein? \nTriff Dich in einem geschützten virtuellen Raum Gleichgesinnte und lass dich inspirieren – von den Fragen & Antworten. \nRegelmäßig bieten wir das virtuelle Cafe als Austauschplattform für Pferdemenschen an\, die wieder mit Freude und Spaß den Umgang mit Ihrem Pferd genießen möchten. \nDu kannst dort Deine Fragen platzieren und in geschützter Runde mit anderen darüber sprechen. \nAls Mental-\, Emotions- und Pferdecoach moderieren wir unterstützend die Runde und stellen bei Bedarf tiefergreifende Fragen ;-). \n  \n			\n			\n				\n				\n				\n				\n				\n				\n				\n				\n				\n				\n			\n				\n				\n				\n				\n				Zielgruppe\nDas Kaffeestündchen\, in kleiner individueller Runde\, ist für Dich interessant\, wenn Du Dich mit anderen zu Deinem Thema in geschützter Atmosphäre austauschen möchtest. Du Anregungen für Veränderungen im Umgang / Reiten mit Deinem Pferd erhalten möchtest und dabei von einem Mental- und Reitcoach begleitet werden möchtest. \n			\n				\n				\n				\n				\n				Was Dich erwartet…\nIn lockerer Runde findet ein moderierter Austausch über eure Erfahrungen und Erlebnisse statt und es gibt Hilfestellung zu eurem Thema. Dieses macht den Kaffeeplausch zu einer lebendigen und kurzweiligen Stunde. \nWas hast Du davon?\nDu\,.. \n\nstärkst deine sozialen Kontakte\,\nbist mit Deinem Thema nicht alleine\,\nbist Teil eines übergreifenden Netzwerkes für die ängstliche und unsichere Reiter\, die dazu Lust haben und Antworten und Tipps für sich und ihr Pferd suchen.\n\n			\n				\n				\n				\n				\n				\n				\n				\n					15\,00 €
URL:https://insa-schuelzke.de/veranstaltungen/vc-mental-stark-und-angstfrei-reiten/
LOCATION:Online – Zoom-Meeting\, Stadtveener Str. 53\, Sonsbeck\, NRW\, 47665\, Deutschland
CATEGORIES:Online
ATTACH;FMTTYPE=image/jpeg:https://insa-schuelzke.de/wp-content/uploads/2021/05/VC-Angstfrei.jpg
ORGANIZER;CN="Insa Sch%C3%BClzke":MAILTO:info@insa-schuelzke.de
END:VEVENT
END:VCALENDAR